BEGIN:VCALENDAR
VERSION:2.0
PRODID:-//Landespolizeisportverein Steiermark - ECPv6.5.1.6//NONSGML v1.0//EN
CALSCALE:GREGORIAN
METHOD:PUBLISH
X-ORIGINAL-URL:https://lpsv-st.at
X-WR-CALDESC:Events for Landespolizeisportverein Steiermark
REFRESH-INTERVAL;VALUE=DURATION:PT1H
X-Robots-Tag:noindex
X-PUBLISHED-TTL:PT1H
BEGIN:VTIMEZONE
TZID:Europe/Vienna
BEGIN:DAYLIGHT
TZOFFSETFROM:+0100
TZOFFSETTO:+0200
TZNAME:CEST
DTSTART:20240331T010000
END:DAYLIGHT
BEGIN:STANDARD
TZOFFSETFROM:+0200
TZOFFSETTO:+0100
TZNAME:CET
DTSTART:20241027T010000
END:STANDARD
BEGIN:DAYLIGHT
TZOFFSETFROM:+0100
TZOFFSETTO:+0200
TZNAME:CEST
DTSTART:20250330T010000
END:DAYLIGHT
BEGIN:STANDARD
TZOFFSETFROM:+0200
TZOFFSETTO:+0100
TZNAME:CET
DTSTART:20251026T010000
END:STANDARD
END:VTIMEZONE
BEGIN:VEVENT
DTSTART;VALUE=DATE:20250522
DTEND;VALUE=DATE:20250523
DTSTAMP:20260424T121405
CREATED:20250412T062014Z
LAST-MODIFIED:20250412T062014Z
UID:10000036-1747872000-1747958399@lpsv-st.at
SUMMARY:1. Fischen 2025
DESCRIPTION:Die Sektionsleiter Angelsport laden recht herzlich zum 1. Fischen der Saison 2025 ein. \nDatum: 22. Mai 2025 \nOrt: 8160 Gutenberg an der Raabklamm (Teichanlage Fritsch)\, \nWeitere Informationen: Ausschreibung_1_Fischen_Gutenberg_2025
URL:https://lpsv-st.at/event/1-fischen-2025/
LOCATION:Teichanlage Fritsch\, 8160 Gutenberg an der Raabklamm (Grubenteich Weg)\, Gutenberg an der Raabklamm\, Steiermark\, 8160\, Austria
CATEGORIES:Sektion Angelsport
ATTACH;FMTTYPE=image/jpeg:https://lpsv-st.at/wp-content/uploads/2023/11/2.jpg
END:VEVENT
BEGIN:VEVENT
DTSTART;TZID=Europe/Vienna:20240514T090000
DTEND;TZID=Europe/Vienna:20240514T160000
DTSTAMP:20260424T121405
CREATED:20240517T104250Z
LAST-MODIFIED:20240517T104250Z
UID:10000019-1715677200-1715702400@lpsv-st.at
SUMMARY:2. Fischen 2024
DESCRIPTION:Die Sektionsleiter Angelsport laden recht herzlich zum 2. Fischen der Saison 2024 ein. \n  \nAus organisatorischen Gründen ersuchen die Veranstalter um ehest mögliche Bekanntgabe eurer Teilnahme per Mail (alfred.gimpel@polizei.gv.at bzw. peter.reiterer@polizei.gv.at) oder in der internen WhatsApp Gruppe. Es wird auch ersucht\, eine evtl. Nichtteilnahme nach bereits erfolgter Anmeldung anher bekannt zu geben\, damit der Platz noch vergeben werden kann. \n  \nWeitere Informationen: Ausschreibung_2_Fischen_Egelsdorf_2023
URL:https://lpsv-st.at/event/2-fischen-2024/
LOCATION:Teichanlage Fritsch\, 8160 Gutenberg an der Raabklamm (Grubenteich Weg)\, Gutenberg an der Raabklamm\, Steiermark\, 8160\, Austria
CATEGORIES:Sektion Angelsport
ATTACH;FMTTYPE=image/jpeg:https://lpsv-st.at/wp-content/uploads/2023/11/2.jpg
END:VEVENT
BEGIN:VEVENT
DTSTART;TZID=Europe/Vienna:20240514T090000
DTEND;TZID=Europe/Vienna:20240514T160000
DTSTAMP:20260424T121405
CREATED:20240419T103335Z
LAST-MODIFIED:20240419T103335Z
UID:10000017-1715677200-1715702400@lpsv-st.at
SUMMARY:1. Fischen & Grillen 2024
DESCRIPTION:Die Sektionsleiter Angelsport laden recht herzlich zum 1. Fischen und Grillen der Saison 2024 ein. \n  \nAus organisatorischen Gründen ersuchen die Veranstalter um ehest mögliche Bekanntgabe eurer Teilnahme per Mail (alfred.gimpel@polizei.gv.at bzw. peter.reiterer@polizei.gv.at) oder in der internen WhatsApp Gruppe. Es wird auch ersucht\, eine evtl. Nichtteilnahme nach bereits erfolgter Anmeldung anher bekannt zu geben\, damit der Platz noch vergeben werden kann. \n  \nWeitere Informationen: Ausschreibung_1_Fischen_Gutenberg_2024
URL:https://lpsv-st.at/event/1-fischen-grillen-2024/
LOCATION:Teichanlage Fritsch\, 8160 Gutenberg an der Raabklamm (Grubenteich Weg)\, Gutenberg an der Raabklamm\, Steiermark\, 8160\, Austria
CATEGORIES:Sektion Angelsport
ATTACH;FMTTYPE=image/jpeg:https://lpsv-st.at/wp-content/uploads/2023/11/2.jpg
END:VEVENT
END:VCALENDAR