BEGIN:VCALENDAR
VERSION:2.0
PRODID:-//Landespolizeisportverein Steiermark - ECPv6.5.1.6//NONSGML v1.0//EN
CALSCALE:GREGORIAN
METHOD:PUBLISH
X-WR-CALNAME:Landespolizeisportverein Steiermark
X-ORIGINAL-URL:https://lpsv-st.at
X-WR-CALDESC:Events for Landespolizeisportverein Steiermark
REFRESH-INTERVAL;VALUE=DURATION:PT1H
X-Robots-Tag:noindex
X-PUBLISHED-TTL:PT1H
BEGIN:VTIMEZONE
TZID:Europe/Vienna
BEGIN:DAYLIGHT
TZOFFSETFROM:+0100
TZOFFSETTO:+0200
TZNAME:CEST
DTSTART:20240331T010000
END:DAYLIGHT
BEGIN:STANDARD
TZOFFSETFROM:+0200
TZOFFSETTO:+0100
TZNAME:CET
DTSTART:20241027T010000
END:STANDARD
END:VTIMEZONE
BEGIN:VEVENT
DTSTART;VALUE=DATE:20240604
DTEND;VALUE=DATE:20240607
DTSTAMP:20260424T115019
CREATED:20240404T112953Z
LAST-MODIFIED:20240404T112953Z
UID:10000015-1717459200-1717718399@lpsv-st.at
SUMMARY:Fußballtage Lannach
DESCRIPTION:Vom 04.06.2024 bis 06.06.2024 findet bei der Sportanlage in Lannach als Vorbereitung für die Europameisterschaft 2025 in Lohne/Deutschland ein Trainingslehrgang mit der Damennationalmannschaft statt.\n\n  \n\nZusätzlich wird am 05.06.2024 ein Blitzturnier der Herren allgemein abgehalten. Teilnehmen werden die Mannschaften der Bundesländer Steiermark\, Burgenland\, Niederösterreich und Salzburg\n\n  \n\nAm 05.06.2024 spielt die Damenauswahl um 16:00 Uhr gegen die Damenmannschaft des SK Sturm Graz
URL:https://lpsv-st.at/event/fusballtage-lannach/
LOCATION:Sportanlage Lannach\, Sportplatzweg 2-12\, Lannach\, 8502\, Austria
ATTACH;FMTTYPE=image/jpeg:https://lpsv-st.at/wp-content/uploads/2024/04/WhatsApp-Image-2024-04-04-at-13.28.33-e1712230181236.jpeg
END:VEVENT
END:VCALENDAR