BEGIN:VCALENDAR
VERSION:2.0
PRODID:-//Landespolizeisportverein Steiermark - ECPv6.5.1.6//NONSGML v1.0//EN
CALSCALE:GREGORIAN
METHOD:PUBLISH
X-WR-CALNAME:Landespolizeisportverein Steiermark
X-ORIGINAL-URL:https://lpsv-st.at
X-WR-CALDESC:Events for Landespolizeisportverein Steiermark
REFRESH-INTERVAL;VALUE=DURATION:PT1H
X-Robots-Tag:noindex
X-PUBLISHED-TTL:PT1H
BEGIN:VTIMEZONE
TZID:Europe/Vienna
BEGIN:DAYLIGHT
TZOFFSETFROM:+0100
TZOFFSETTO:+0200
TZNAME:CEST
DTSTART:20240331T010000
END:DAYLIGHT
BEGIN:STANDARD
TZOFFSETFROM:+0200
TZOFFSETTO:+0100
TZNAME:CET
DTSTART:20241027T010000
END:STANDARD
END:VTIMEZONE
BEGIN:VEVENT
DTSTART;TZID=Europe/Vienna:20241003T100000
DTEND;TZID=Europe/Vienna:20241003T170000
DTSTAMP:20260420T183105
CREATED:20240809T112033Z
LAST-MODIFIED:20240809T112456Z
UID:10000020-1727949600-1727974800@lpsv-st.at
SUMMARY:Landesmeisterschaft - Radfahren 2024
DESCRIPTION:Im Bezirk Murtal finden am 03.10.2024 die Landesmeisterschaften im Radfahren statt. Die Sektionsleitung freut sich auf zahlreiche Anmeldungen und Teilnehmer. \n  \nBeginn:         03.10.2024\, 10:00 Uhr \nOrt:                 8724 Spielberg\, Frauenbachstraße 51 (Golfclub Murtal) \n  \nNähere Informationen: Landesmeisterschaften Radfahren
URL:https://lpsv-st.at/event/landesmeisterschaft-radfahren-2024/
LOCATION:Golfclub Murtal\, Frauenbachstraße 51\, Spielberg\, Steiermark\, 8724\, Austria
CATEGORIES:Sektion Radfahren
ATTACH;FMTTYPE=image/jpeg:https://lpsv-st.at/wp-content/uploads/2023/11/11.jpg
END:VEVENT
END:VCALENDAR