BEGIN:VCALENDAR
VERSION:2.0
PRODID:-//Landespolizeisportverein Steiermark - ECPv6.5.1.6//NONSGML v1.0//EN
CALSCALE:GREGORIAN
METHOD:PUBLISH
X-WR-CALNAME:Landespolizeisportverein Steiermark
X-ORIGINAL-URL:https://lpsv-st.at
X-WR-CALDESC:Events for Landespolizeisportverein Steiermark
REFRESH-INTERVAL;VALUE=DURATION:PT1H
X-Robots-Tag:noindex
X-PUBLISHED-TTL:PT1H
BEGIN:VTIMEZONE
TZID:Europe/Vienna
BEGIN:DAYLIGHT
TZOFFSETFROM:+0100
TZOFFSETTO:+0200
TZNAME:CEST
DTSTART:20250330T010000
END:DAYLIGHT
BEGIN:STANDARD
TZOFFSETFROM:+0200
TZOFFSETTO:+0100
TZNAME:CET
DTSTART:20251026T010000
END:STANDARD
END:VTIMEZONE
BEGIN:VEVENT
DTSTART;TZID=Europe/Vienna:20250611T073000
DTEND;TZID=Europe/Vienna:20250612T170000
DTSTAMP:20260424T132936
CREATED:20250307T073234Z
LAST-MODIFIED:20250307T073234Z
UID:10000032-1749627000-1749747600@lpsv-st.at
SUMMARY:Landesmeisterschaften - BEACHVOLLEYBALL 2025
DESCRIPTION:Die Polizeisportvereinigung Graz und der Landespolizeisportverein Steiermark veranstalten gemeinsam vom 11.06.2025 bis zum 12.06.2025 am Murbeach (8010 Graz\, Markartgasse 30) die Polizei-Landesmeisterschaften im Beachvolleyball. \nBewerbe: \n\nDamen 2 gegen 2\nHerren 2 gegen 2\nMixed 2 gegen 2\nQuattro 4 gegen 4 – Mindestens 1 Dame pro Team\n\nBeginn: 11. Juni 2025\, um 07:30 (Mannschaftsführerbesprechung)\nAbendprogramm: Blaulichtparty\nEnde: 12. Juni ca. 17.00 Uhr (Siegerehrung) \nDie Nennung hat mit beiliegendem Nennformular per E-Mail an Lukas.posch@polizei.gv.at bis spätestens 15. Mai 2025 zu erfolgen. \nNennformular: Nennformular \nNähere Informationen: 2025 LM-Beachvolleyball Ausschreibung
URL:https://lpsv-st.at/event/landesmeisterschaften-beachvolleyball-2025/
LOCATION:Murbeach Graz\, Markartgasse 30\, Graz\, Steiermark\, 8010\, Austria
CATEGORIES:Sektion Beachvolleyball
ATTACH;FMTTYPE=image/jpeg:https://lpsv-st.at/wp-content/uploads/2023/11/17.jpg
END:VEVENT
END:VCALENDAR