BEGIN:VCALENDAR
VERSION:2.0
PRODID:-//Landespolizeisportverein Steiermark - ECPv6.5.1.6//NONSGML v1.0//EN
CALSCALE:GREGORIAN
METHOD:PUBLISH
X-ORIGINAL-URL:https://lpsv-st.at
X-WR-CALDESC:Events for Landespolizeisportverein Steiermark
REFRESH-INTERVAL;VALUE=DURATION:PT1H
X-Robots-Tag:noindex
X-PUBLISHED-TTL:PT1H
BEGIN:VTIMEZONE
TZID:Europe/Vienna
BEGIN:DAYLIGHT
TZOFFSETFROM:+0100
TZOFFSETTO:+0200
TZNAME:CEST
DTSTART:20260329T010000
END:DAYLIGHT
BEGIN:STANDARD
TZOFFSETFROM:+0200
TZOFFSETTO:+0100
TZNAME:CET
DTSTART:20261025T010000
END:STANDARD
END:VTIMEZONE
BEGIN:VEVENT
DTSTART;VALUE=DATE:20260512
DTEND;VALUE=DATE:20260513
DTSTAMP:20260423T104805
CREATED:20260402T050157Z
LAST-MODIFIED:20260402T050157Z
UID:10000068-1778544000-1778630399@lpsv-st.at
SUMMARY:1. Fischen & Grillen 2026
DESCRIPTION:Die Sektionsleiter Angelsport laden recht herzlich zum 1. Fischen der Saison 2026 ein. \nDatum: 12. Mai 2026 \nOrt: Teichanlage Fritsch in 8160 Gutenberg an der Raabklamm  (Grubenteich Weg) \nWeitere Informationen: Ausschreibung_1_Fischen_Gutenberg_2026
URL:https://lpsv-st.at/event/1-fischen-grillen-2026/
CATEGORIES:Sektion Angelsport
ATTACH;FMTTYPE=image/jpeg:https://lpsv-st.at/wp-content/uploads/2023/11/2.jpg
END:VEVENT
END:VCALENDAR