BEGIN:VCALENDAR
VERSION:2.0
PRODID:-//Landespolizeisportverein Steiermark - ECPv6.5.1.6//NONSGML v1.0//EN
CALSCALE:GREGORIAN
METHOD:PUBLISH
X-WR-CALNAME:Landespolizeisportverein Steiermark
X-ORIGINAL-URL:https://lpsv-st.at
X-WR-CALDESC:Events for Landespolizeisportverein Steiermark
REFRESH-INTERVAL;VALUE=DURATION:PT1H
X-Robots-Tag:noindex
X-PUBLISHED-TTL:PT1H
BEGIN:VTIMEZONE
TZID:Europe/Vienna
BEGIN:DAYLIGHT
TZOFFSETFROM:+0100
TZOFFSETTO:+0200
TZNAME:CEST
DTSTART:20260329T010000
END:DAYLIGHT
BEGIN:STANDARD
TZOFFSETFROM:+0200
TZOFFSETTO:+0100
TZNAME:CET
DTSTART:20261025T010000
END:STANDARD
END:VTIMEZONE
BEGIN:VEVENT
DTSTART;VALUE=DATE:20260121
DTEND;VALUE=DATE:20260123
DTSTAMP:20260420T111338
CREATED:20251107T084951Z
LAST-MODIFIED:20251219T104610Z
UID:10000052-1768953600-1769126399@lpsv-st.at
SUMMARY:16. Landesmeisterschaften - Alpin & Nordisch
DESCRIPTION:Der Landespolizeisportverein Steiermark schreibt die 16. steirischen Schimeisterschaften am 21. und 22. Jänner 2026 aus.\nÖrtlichkeit: Gaaler Lifte\, Schattenberg 53\, 8731 Gaal \n  \nAnmeldelink: https://lpsvalpin.kh-solution.at/ \nWeitere Informationen: Ausschreibung LM Alpin&Nordisch 2026
URL:https://lpsv-st.at/event/16-landesmeisterschaften-alpin-nordisch/
LOCATION:Gaaler Lifte\, Schattenberg 53\, 8731 Gaal\, Schattenberg 53\, Gaal\, 8731\, Austria
CATEGORIES:Sektion Alpin/Nordisch
ATTACH;FMTTYPE=image/jpeg:https://lpsv-st.at/wp-content/uploads/2024/01/LPSV-Ski-Foto-scaled.jpg
END:VEVENT
END:VCALENDAR