BEGIN:VCALENDAR
VERSION:2.0
PRODID:-//Landespolizeisportverein Steiermark - ECPv6.5.1.6//NONSGML v1.0//EN
CALSCALE:GREGORIAN
METHOD:PUBLISH
X-ORIGINAL-URL:https://lpsv-st.at
X-WR-CALDESC:Events for Landespolizeisportverein Steiermark
REFRESH-INTERVAL;VALUE=DURATION:PT1H
X-Robots-Tag:noindex
X-PUBLISHED-TTL:PT1H
BEGIN:VTIMEZONE
TZID:Europe/Vienna
BEGIN:DAYLIGHT
TZOFFSETFROM:+0100
TZOFFSETTO:+0200
TZNAME:CEST
DTSTART:20250330T010000
END:DAYLIGHT
BEGIN:STANDARD
TZOFFSETFROM:+0200
TZOFFSETTO:+0100
TZNAME:CET
DTSTART:20251026T010000
END:STANDARD
END:VTIMEZONE
BEGIN:VEVENT
DTSTART;VALUE=DATE:20251001
DTEND;VALUE=DATE:20251002
DTSTAMP:20260424T104235
CREATED:20250816T142949Z
LAST-MODIFIED:20250816T142949Z
UID:10000046-1759276800-1759363199@lpsv-st.at
SUMMARY:Landesmeisterschaft - Radfahren 2025
DESCRIPTION:Im Bezirk Murtal finden am 01.10.2025 die Landesmeisterschaften im Radfahren statt. Die Sektionsleitung freut sich auf zahlreiche Anmeldungen und Teilnehmer. \n  \nBeginn:         01.10.2025\, 10:00 Uhr \nOrt:                8741 Großfeistritz\, Großfeistritz 46 (Sportplatz) \n  \nNähere Informationen: Landesmeisterschaften Radfahren 2025
URL:https://lpsv-st.at/event/landesmeisterschaft-radfahren-2025/
CATEGORIES:Sektion Radfahren
ATTACH;FMTTYPE=image/jpeg:https://lpsv-st.at/wp-content/uploads/2023/11/11.jpg
END:VEVENT
BEGIN:VEVENT
DTSTART;VALUE=DATE:20251002
DTEND;VALUE=DATE:20251003
DTSTAMP:20260424T104235
CREATED:20250509T072254Z
LAST-MODIFIED:20250509T072254Z
UID:10000043-1759363200-1759449599@lpsv-st.at
SUMMARY:5. Motorradausfahrt 2025
DESCRIPTION:02.10.\nDieselkino Lieboch\nOst- u Südstmk / Weinstr.\nAnmeldeschluss: 15.09.\nSaisonabschluss\n\n\n\nAnmeldung für den jeweiligen Termin mit Bekanntgabe von Name und Handynummer bei: \n\nMarc Posch                        marc.posch@polizei.gv.at                           06648466581\n\nODER \n\nLucas Pichler                     lucas.pichler@polizei.gv.at                         06648466501\n\nFür jeden Termin wird eine WhatsApp-Gruppe erstellt\, um wichtige Informationen\, Änderungen oder Absagen bekanntzugeben. \nIhr könnt diese Gruppe nach der Ausfahrt wieder verlassen. \n  \nWeitere Informationen und die anderen Termine 2025: Motorradausfahrten 2025
URL:https://lpsv-st.at/event/5-motorradausfahrt-2025/
CATEGORIES:Sektion Motorsport
ATTACH;FMTTYPE=image/png:https://lpsv-st.at/wp-content/uploads/2025/05/Motorsport.png
END:VEVENT
BEGIN:VEVENT
DTSTART;VALUE=DATE:20251006
DTEND;VALUE=DATE:20251008
DTSTAMP:20260424T104235
CREATED:20250827T111557Z
LAST-MODIFIED:20250827T111557Z
UID:10000047-1759708800-1759881599@lpsv-st.at
SUMMARY:Landesmeisterschaften - PADEL Tennis 2025
DESCRIPTION:Die jüngste Sektion des LPSV veranstaltet von 6. Oktober – 7. Oktober 2025 die 1. Landesmeisterschaften im PADEL Tennis in Bruck/Mur. \n  \nNähere Informationen: Ausschreibung Landesmeisterschaften Oktober 2025 \nAnmeldeformular: Anmeldeformular Landesmeisterschaften Padel Tennis
URL:https://lpsv-st.at/event/landesmeisterschaften-padel-tennis-2025/
LOCATION:Padel Lions\, Bruck an der Mur\, Murinsel 11\, Bruck an der Mur\, Steiermark\, 8600\, Austria
CATEGORIES:Sektion Padeltennis
ATTACH;FMTTYPE=image/webp:https://lpsv-st.at/wp-content/uploads/2025/01/PadelTennis_Schlager.webp
END:VEVENT
BEGIN:VEVENT
DTSTART;VALUE=DATE:20251009
DTEND;VALUE=DATE:20251010
DTSTAMP:20260424T104235
CREATED:20250827T111939Z
LAST-MODIFIED:20250827T111939Z
UID:10000048-1759968000-1760054399@lpsv-st.at
SUMMARY:Landesmeisterschaften - Fitness 2025
DESCRIPTION:Die Sektion Kraftsport – BZS veranstaltet am 9. Oktober 2025 die Landesmeisterschaften im Fitness im BZS Graz. \n  \nNähere Informationen: 2025_LM_Fitness_Ausschreibung
URL:https://lpsv-st.at/event/landesmeisterschaften-fitness-2025/
CATEGORIES:Sektion BZS/Kraftsport
ATTACH;FMTTYPE=image/jpeg:https://lpsv-st.at/wp-content/uploads/2023/11/4.jpg
END:VEVENT
BEGIN:VEVENT
DTSTART;VALUE=DATE:20251014
DTEND;VALUE=DATE:20251016
DTSTAMP:20260424T104235
CREATED:20251015T072520Z
LAST-MODIFIED:20251015T072541Z
UID:10000050-1760400000-1760572799@lpsv-st.at
SUMMARY:LM Präzisionsschießen 2025
DESCRIPTION:Bewerbe: Präzisionsbewerbe Glock Standard und StG 77 A3 BMI Kaliber 9 mm – Dreistellungsmatch \nOrt: Schießstätte des SSV Jagerberg in A-8091 Jagerberg 97c \nBeginn: 14. und 15.10.2025\, 08.00 Uhr \nSchießleitung: AI i.R. Alfred REITBAUER\, GI Christian SCHARF \nNennungen: Bis spätestens 30.09.2025\, Nennungen (Formular: Nennung) per Email an christian.scharf02@polizei.gv.at \n  \nNähere Informationen: Ausschreibung-Einladung LM Schießen 2025
URL:https://lpsv-st.at/event/lm-prazisionsschiesen-2025/
CATEGORIES:Sektion Schießen
ATTACH;FMTTYPE=image/jpeg:https://lpsv-st.at/wp-content/uploads/2024/09/DSC_9157_00001-scaled.jpg
ORGANIZER;CN="Landespolizeisportverein Steiermark - Sektion Schie%C3%9Fen":MAILTO:kontakt@lpsv-st.at
END:VEVENT
END:VCALENDAR