BEGIN:VCALENDAR
VERSION:2.0
PRODID:-//Landespolizeisportverein Steiermark - ECPv6.5.1.6//NONSGML v1.0//EN
CALSCALE:GREGORIAN
METHOD:PUBLISH
X-WR-CALNAME:Landespolizeisportverein Steiermark
X-ORIGINAL-URL:https://lpsv-st.at
X-WR-CALDESC:Events for Landespolizeisportverein Steiermark
REFRESH-INTERVAL;VALUE=DURATION:PT1H
X-Robots-Tag:noindex
X-PUBLISHED-TTL:PT1H
BEGIN:VTIMEZONE
TZID:Europe/Vienna
BEGIN:DAYLIGHT
TZOFFSETFROM:+0100
TZOFFSETTO:+0200
TZNAME:CEST
DTSTART:20250330T010000
END:DAYLIGHT
BEGIN:STANDARD
TZOFFSETFROM:+0200
TZOFFSETTO:+0100
TZNAME:CET
DTSTART:20251026T010000
END:STANDARD
END:VTIMEZONE
BEGIN:VEVENT
DTSTART;TZID=Europe/Vienna:20250904T130000
DTEND;TZID=Europe/Vienna:20250904T160000
DTSTAMP:20260420T110643
CREATED:20250205T170820Z
LAST-MODIFIED:20250205T170820Z
UID:10000027-1756990800-1757001600@lpsv-st.at
SUMMARY:Übungsschießen
DESCRIPTION:Die Sektion Schießen hat die Schießanlage des Schützenvereines in 8091 Jagerberg 97c\, Bezirk Südoststeiermark\, angemietet\, um allen Polizeibeamten sowie den Gendarmerie- und Polizeipensionisten die Möglichkeit zu bieten\, mit der eigenen Faustfeuerwaffe zu schießen bzw. zu üben. \nFür die pensionierten Kollegen\, welche Mitglieder des LPSV sind\, besteht wieder die Möglichkeit\, im Hinblick auf einen Nachweis für die Behörde\, den Umgang mit ihren FFW\, gegen Bestätigung der Teilnahme\, zu üben. \nAngemerkt wird\, dass die BHs ca. 5 Bestätigungen in den letzten 5 Jahren bzw. 3 Bestätigungen im letzten Jahr vor der wiederkehrenden Überprüfung verlangen. \nJeder Schütze ist für jeden seiner abgegebenen Schüsse selbst verantwortlich! \nInsbesondere für Polizeischüler könnte bei genügend und rechtzeitigen Voranmeldungen ein Schießtrainer gestellt werden. \nUnkostenbeitrag: € 10.-
URL:https://lpsv-st.at/event/ubungsschiesen-7/
LOCATION:Übungsschießen in Jagerberg
CATEGORIES:Sektion Schießen
ATTACH;FMTTYPE=image/jpeg:https://lpsv-st.at/wp-content/uploads/2023/06/Landesmeisterschaft-USPE-01.jpg
ORGANIZER;CN="Landespolizeisportverein Steiermark - Sektion Schie%C3%9Fen":MAILTO:kontakt@lpsv-st.at
END:VEVENT
BEGIN:VEVENT
DTSTART;VALUE=DATE:20250910
DTEND;VALUE=DATE:20250912
DTSTAMP:20260420T110643
CREATED:20250509T072209Z
LAST-MODIFIED:20250509T072209Z
UID:10000042-1757462400-1757635199@lpsv-st.at
SUMMARY:4. Motorradausfahrt 2025
DESCRIPTION:10.9.-11.9.\nB70-A2-Auffahrt Pack\nGroßglockner\nAnmeldeschluss: 15.07.\nbegrenzte Teilnehmer\, ehebaldige Anmeldung wg. Unterkunft ist erbeten\n\n\n\nAnmeldung für den jeweiligen Termin mit Bekanntgabe von Name und Handynummer bei: \n\nMarc Posch                        marc.posch@polizei.gv.at                           06648466581\n\nODER \n\nLucas Pichler                     lucas.pichler@polizei.gv.at                         06648466501\n\nFür jeden Termin wird eine WhatsApp-Gruppe erstellt\, um wichtige Informationen\, Änderungen oder Absagen bekanntzugeben. \nIhr könnt diese Gruppe nach der Ausfahrt wieder verlassen. \n  \nWeitere Informationen und die anderen Termine 2025: Motorradausfahrten 2025
URL:https://lpsv-st.at/event/4-motorradausfahrt-2025/
CATEGORIES:Sektion Motorsport
ATTACH;FMTTYPE=image/png:https://lpsv-st.at/wp-content/uploads/2025/05/Motorsport.png
END:VEVENT
BEGIN:VEVENT
DTSTART;VALUE=DATE:20250910
DTEND;VALUE=DATE:20250912
DTSTAMP:20260420T110643
CREATED:20250721T082609Z
LAST-MODIFIED:20250721T082609Z
UID:10000044-1757462400-1757635199@lpsv-st.at
SUMMARY:Motorsport - Glocknerausfahrt 2025
DESCRIPTION:Die Sektion Motorsport lädt zur diesjährigen 2-Tages-Motorradrundfahrt über zwei der schönsten Panoramastraßen Österreichs ein. \nAm 1. Tag führt die Tour durch Kärnten über die Nockalmstraße bis zum Motorradhotel Gailtalerhof in Kötschach-Mauthen. \nAm 2. Tag geht es über die Großglockner-Hochalpenstraße retour durch Salzburg und weitere Passstraßen zurück zum Ausgangspunkt auf der Pack. \nWann:                                  10. – 11.09.2025 \nTreffpunkt:                        10.09.\, 08:30 Uhr\, B70-A2- Auffahrt Pack – Bushaltestelle \nKosten:                                ca. € 110.- für Nächtigung inkl. Halbpension (EZ- und DZ-Belegung möglich) \n                                               + Mautgebühren  \n  \nAnmeldung mit Angabe von Name\, Handynummer sowie dem Wunsch nach Einzel- oder Doppelzimmer bitte bei: \nMarc Posch                        marc.posch@polizei.gv.at                           06648466581                     oder \nLucas Pichler                      lucas.pichler@polizei.gv.at                         06648466501 \n  \nFür den Termin wird eine WhatsApp-Gruppe erstellt\, um wichtige Informationen\, Änderungen oder Absagen bekanntzugeben. Ihr könnt diese Gruppe nach der Ausfahrt wieder verlassen. \nDie Führung der Ausfahrt wird nach Möglichkeit von min. zwei Fahrtechnik-Instruktoren übernommen\, um vor Beginn eine Einteilung in unterschiedliche Tempogruppen zu ermöglichen. \nBitte keine Anmeldung mit Motorrädern unter 500ccm.  \nBegrenzte Teilnehmerzahl!  \nAnmeldung erbeten bis 20.07.2025
URL:https://lpsv-st.at/event/motorsport-glocknerausfahrt-2025/
ATTACH;FMTTYPE=image/png:https://lpsv-st.at/wp-content/uploads/2025/05/Motorsport.png
END:VEVENT
BEGIN:VEVENT
DTSTART;VALUE=DATE:20250916
DTEND;VALUE=DATE:20250917
DTSTAMP:20260420T110643
CREATED:20250807T052107Z
LAST-MODIFIED:20250807T052107Z
UID:10000045-1757980800-1758067199@lpsv-st.at
SUMMARY:USPE Dreikampf - Landesmeisterschaft 2025
DESCRIPTION:Am 16. September 2025 findet in Fohnsdorf die USPE Dreikampf – Landesmeisterschaft 2025 statt. Sowohl für Einzelstartet als auch für Mannschaften. \nNenngeld: 25\,00 Euro für LPSV und PSV Mitglieder (ansonsten 35\,00 Euro). Im Nenngeld ist das Essen und ein Getränk bei der Siegerehrung am Wettkampftag inkludiert.\n(Einhebung des Nenngeldes bei der Anmeldung – Therme Fohnsdorf)\nNennschluss: 09.09.2025\nNennungen: Per E-Mail unter Anführung des Vor- und Familiennamen\, Geburtsjahr\, Dienststelle und Mannschaft\, an juergen.roth@polizei.gv.at \n  \nWeitere Informationen: Ausschreibung LM USPE 2025
URL:https://lpsv-st.at/event/uspe-dreikampf-landesmeisterschaft-2025/
CATEGORIES:Sektion Leichtathletik
ATTACH;FMTTYPE=image/jpeg:https://lpsv-st.at/wp-content/uploads/2024/09/DSC_9157_00001-scaled.jpg
END:VEVENT
BEGIN:VEVENT
DTSTART;VALUE=DATE:20250918
DTEND;VALUE=DATE:20250919
DTSTAMP:20260420T110643
CREATED:20250827T112204Z
LAST-MODIFIED:20250827T112204Z
UID:10000049-1758153600-1758239999@lpsv-st.at
SUMMARY:4. Fischen 2025
DESCRIPTION:Die Sektionsleiter Angelsport laden recht herzlich zum 4. Fischen der Saison 2025 ein. \nDatum: 18. September 2025 \nOrt: Teichanlage Kögl (= sog. ´Polizei-Teich´) in 8072 Fernitz-Mellach\, Am Teichweg \nWeitere Informationen:
URL:https://lpsv-st.at/event/4-fischen-2025/
CATEGORIES:Sektion Angelsport
ATTACH;FMTTYPE=image/jpeg:https://lpsv-st.at/wp-content/uploads/2023/11/2.jpg
END:VEVENT
BEGIN:VEVENT
DTSTART;VALUE=DATE:20250923
DTEND;VALUE=DATE:20250924
DTSTAMP:20260420T110643
CREATED:20250412T061622Z
LAST-MODIFIED:20250721T082749Z
UID:10000035-1758585600-1758671999@lpsv-st.at
SUMMARY:Fußball - Landesmeisterschaften Kleinfeldfußball
DESCRIPTION:Am Dienstag den 23. September 2025\, finden in Bad Blumau\, Bez. Hartberg-Fürstenfeld\, die Landesmeisterschaften im Kleinfeldfußball Herren und DAMEN statt. \n  \nNähere Informationen: AusschreibungKleinfeld2025 \n 
URL:https://lpsv-st.at/event/fusball-landesmeisterschaften-kleinfeldfusball/
CATEGORIES:Sektion Fußball
ATTACH;FMTTYPE=image/jpeg:https://lpsv-st.at/wp-content/uploads/2023/11/5.jpg
END:VEVENT
END:VCALENDAR