BEGIN:VCALENDAR
VERSION:2.0
PRODID:-//Landespolizeisportverein Steiermark - ECPv6.5.1.6//NONSGML v1.0//EN
CALSCALE:GREGORIAN
METHOD:PUBLISH
X-WR-CALNAME:Landespolizeisportverein Steiermark
X-ORIGINAL-URL:https://lpsv-st.at
X-WR-CALDESC:Events for Landespolizeisportverein Steiermark
REFRESH-INTERVAL;VALUE=DURATION:PT1H
X-Robots-Tag:noindex
X-PUBLISHED-TTL:PT1H
BEGIN:VTIMEZONE
TZID:Europe/Vienna
BEGIN:DAYLIGHT
TZOFFSETFROM:+0100
TZOFFSETTO:+0200
TZNAME:CEST
DTSTART:20230326T010000
END:DAYLIGHT
BEGIN:STANDARD
TZOFFSETFROM:+0200
TZOFFSETTO:+0100
TZNAME:CET
DTSTART:20231029T010000
END:STANDARD
END:VTIMEZONE
BEGIN:VEVENT
DTSTART;TZID=Europe/Vienna:20231207T130000
DTEND;TZID=Europe/Vienna:20231207T160000
DTSTAMP:20260425T175219
CREATED:20230921T091616Z
LAST-MODIFIED:20230921T091639Z
UID:10000001-1701954000-1701964800@lpsv-st.at
SUMMARY:Übungsschießen
DESCRIPTION:Die Sektion Schießen hat die Schießanlage des Schützenvereines in 8091 Jagerberg\, Bezirk Südoststeiermark\, angemietet\, um allen Polizeibeamten sowie den Gendarmerie- und Polizeipensionisten die Möglichkeit zu bieten\, mit der eigenen Faustfeuerwaffe zu schießen bzw. zu üben. Für die pensionierten Kollegen\, welche Mitglieder des LPSV sind\, besteht wieder die Möglichkeit\, im Hinblick auf einen Nachweis für die Behörde\, den Umgang mit ihren FFW\, gegen Bestätigung der Teilnahme\, zu üben. Angemerkt wird\, dass die BHs ca. 5 Bestätigungen in den letzten 5 Jahren bzw. 3 Bestätigungen im letzten Jahr vor der wiederkehrenden Überprüfung verlangen. Jeder Schütze ist für jeden seiner abgegebenen Schüsse selbst verantwortlich.
URL:https://lpsv-st.at/event/schiessen/
LOCATION:Übungsschießen in Jagerberg
CATEGORIES:Sektion Schießen
ATTACH;FMTTYPE=image/jpeg:https://lpsv-st.at/wp-content/uploads/2023/06/Landesmeisterschaft-USPE-01.jpg
ORGANIZER;CN="Landespolizeisportverein Steiermark - Sektion Schie%C3%9Fen":MAILTO:kontakt@lpsv-st.at
END:VEVENT
END:VCALENDAR