BEGIN:VCALENDAR
VERSION:2.0
PRODID:-//Landespolizeisportverein Steiermark - ECPv6.5.1.6//NONSGML v1.0//EN
CALSCALE:GREGORIAN
METHOD:PUBLISH
X-WR-CALNAME:Landespolizeisportverein Steiermark
X-ORIGINAL-URL:https://lpsv-st.at
X-WR-CALDESC:Events for Landespolizeisportverein Steiermark
REFRESH-INTERVAL;VALUE=DURATION:PT1H
X-Robots-Tag:noindex
X-PUBLISHED-TTL:PT1H
BEGIN:VTIMEZONE
TZID:Europe/Vienna
BEGIN:DAYLIGHT
TZOFFSETFROM:+0100
TZOFFSETTO:+0200
TZNAME:CEST
DTSTART:20260329T010000
END:DAYLIGHT
BEGIN:STANDARD
TZOFFSETFROM:+0200
TZOFFSETTO:+0100
TZNAME:CET
DTSTART:20261025T010000
END:STANDARD
END:VTIMEZONE
BEGIN:VEVENT
DTSTART;VALUE=DATE:20260909
DTEND;VALUE=DATE:20260911
DTSTAMP:20260425T174541
CREATED:20260326T082515Z
LAST-MODIFIED:20260326T082515Z
UID:10000065-1788912000-1789084799@lpsv-st.at
SUMMARY:Motorradausfahrt 2026 - 4
DESCRIPTION:Termin: 9.9. – 10.9..2026 \nTreffpunkt: B70-A2-Auffahrt Pack \nGebiet: Großglockner \nAnmeldung bis: 15.7.2026 \nAnmerkung/Sonstiges: begrenzte Teilnehmer\, rasche Anmeldung wg. Unterkunft ist erbeten \n  \nAnmeldung für den jeweiligen Termin mit Bekanntgabe von Namen und Handynummer bei:\nMarc Posch marc.posch@polizei.gv.at 06648466581 oder\nLucas Pichler lucas.pichler@polizei.gv.at 06648466501 \n  \nWeitere Ausfahrten und Informationen: MR-Ausfahrten 2026
URL:https://lpsv-st.at/event/motorradausfahrt-2026-4/
CATEGORIES:Sektion Motorsport
ATTACH;FMTTYPE=image/jpeg:https://lpsv-st.at/wp-content/uploads/2023/11/10.jpg
END:VEVENT
END:VCALENDAR