BEGIN:VCALENDAR
VERSION:2.0
PRODID:-//Landespolizeisportverein Steiermark - ECPv6.5.1.6//NONSGML v1.0//EN
CALSCALE:GREGORIAN
METHOD:PUBLISH
X-WR-CALNAME:Landespolizeisportverein Steiermark
X-ORIGINAL-URL:https://lpsv-st.at
X-WR-CALDESC:Events for Landespolizeisportverein Steiermark
REFRESH-INTERVAL;VALUE=DURATION:PT1H
X-Robots-Tag:noindex
X-PUBLISHED-TTL:PT1H
BEGIN:VTIMEZONE
TZID:Europe/Vienna
BEGIN:DAYLIGHT
TZOFFSETFROM:+0100
TZOFFSETTO:+0200
TZNAME:CEST
DTSTART:20250330T010000
END:DAYLIGHT
BEGIN:STANDARD
TZOFFSETFROM:+0200
TZOFFSETTO:+0100
TZNAME:CET
DTSTART:20251026T010000
END:STANDARD
END:VTIMEZONE
BEGIN:VEVENT
DTSTART;TZID=Europe/Vienna:20250410T080000
DTEND;TZID=Europe/Vienna:20250410T150000
DTSTAMP:20260421T100406
CREATED:20250307T064051Z
LAST-MODIFIED:20250307T064051Z
UID:10000031-1744272000-1744297200@lpsv-st.at
SUMMARY:Landesmeisterschaften - BOULDERN 2025
DESCRIPTION:Am 10. April 2025 finden die Landesmeisterschaften im Bouldern in Zeltweg statt. \nZeitplan: \n08:00 – 09:00 Uhr           Anmeldung und Wettkampfadministration im Eingangsbereich des BlocSpot \n09:00 – 11:30 Uhr           gemeinsamer Boulder Jam aller anwesenden Teilnehmer \n11:30 – 13:00 Uhr           Mittagspause\, Auswertung der Ergebnisse Boulder Jam \nSpeisen und Getränke im Veranstaltungsgelände \n13:00 – 14:30 Uhr           Final Boulder der einzelnen Klassen \n14:30 – 15:00 Uhr           Siegerehrung und Sachpreisverlosung unter den anwesenden Teilnehmern \n  \nNähere Informationen: \nAusschreibung LM 2025 \nAnmeldeformular
URL:https://lpsv-st.at/event/landesmeisterschaften-bouldern-2025/
LOCATION:BlocSpot Murtal – Bundesstraße 64\, 8740 Zeltweg\, Bundesstraße 64\, Zeltweg\, Steiermark\, 8740\, Austria
CATEGORIES:Sektion Klettern
ATTACH;FMTTYPE=image/jpeg:https://lpsv-st.at/wp-content/uploads/2025/03/david-pisnoy-r1V-OtZR7XY-unsplash-scaled.jpg
END:VEVENT
END:VCALENDAR