BEGIN:VCALENDAR
VERSION:2.0
PRODID:-//Landespolizeisportverein Steiermark - ECPv6.5.1.6//NONSGML v1.0//EN
CALSCALE:GREGORIAN
METHOD:PUBLISH
X-ORIGINAL-URL:https://lpsv-st.at
X-WR-CALDESC:Events for Landespolizeisportverein Steiermark
REFRESH-INTERVAL;VALUE=DURATION:PT1H
X-Robots-Tag:noindex
X-PUBLISHED-TTL:PT1H
BEGIN:VTIMEZONE
TZID:Europe/Vienna
BEGIN:DAYLIGHT
TZOFFSETFROM:+0100
TZOFFSETTO:+0200
TZNAME:CEST
DTSTART:20260329T010000
END:DAYLIGHT
BEGIN:STANDARD
TZOFFSETFROM:+0200
TZOFFSETTO:+0100
TZNAME:CET
DTSTART:20261025T010000
END:STANDARD
END:VTIMEZONE
BEGIN:VEVENT
DTSTART;VALUE=DATE:20260603
DTEND;VALUE=DATE:20260604
DTSTAMP:20260421T100359
CREATED:20260420T125130Z
LAST-MODIFIED:20260420T125130Z
UID:10000069-1780444800-1780531199@lpsv-st.at
SUMMARY:Fußball - Landesmeisterschaften Kleinfeldfußball 2026
DESCRIPTION:Am Mittwoch dem 03. Juni 2026\, finden in Graz auf der Anlage des Steirischen Fußballverbandes die Landesmeisterschaften im Kleinfeldfußball Herren und DAMEN statt. \n  \nNähere Informationen: AusschreibungKleinfeld2026 \n 
URL:https://lpsv-st.at/event/fusball-landesmeisterschaften-kleinfeldfusball-2026/
CATEGORIES:Sektion Fußball
ATTACH;FMTTYPE=image/jpeg:https://lpsv-st.at/wp-content/uploads/2023/11/5.jpg
END:VEVENT
END:VCALENDAR