BEGIN:VCALENDAR
VERSION:2.0
PRODID:-//Landespolizeisportverein Steiermark - ECPv6.5.1.6//NONSGML v1.0//EN
CALSCALE:GREGORIAN
METHOD:PUBLISH
X-WR-CALNAME:Landespolizeisportverein Steiermark
X-ORIGINAL-URL:https://lpsv-st.at
X-WR-CALDESC:Events for Landespolizeisportverein Steiermark
REFRESH-INTERVAL;VALUE=DURATION:PT1H
X-Robots-Tag:noindex
X-PUBLISHED-TTL:PT1H
BEGIN:VTIMEZONE
TZID:Europe/Vienna
BEGIN:DAYLIGHT
TZOFFSETFROM:+0100
TZOFFSETTO:+0200
TZNAME:CEST
DTSTART:20250330T010000
END:DAYLIGHT
BEGIN:STANDARD
TZOFFSETFROM:+0200
TZOFFSETTO:+0100
TZNAME:CET
DTSTART:20251026T010000
END:STANDARD
END:VTIMEZONE
BEGIN:VEVENT
DTSTART;VALUE=DATE:20251009
DTEND;VALUE=DATE:20251010
DTSTAMP:20260424T121328
CREATED:20250827T111939Z
LAST-MODIFIED:20250827T111939Z
UID:10000048-1759968000-1760054399@lpsv-st.at
SUMMARY:Landesmeisterschaften - Fitness 2025
DESCRIPTION:Die Sektion Kraftsport – BZS veranstaltet am 9. Oktober 2025 die Landesmeisterschaften im Fitness im BZS Graz. \n  \nNähere Informationen: 2025_LM_Fitness_Ausschreibung
URL:https://lpsv-st.at/event/landesmeisterschaften-fitness-2025/
CATEGORIES:Sektion BZS/Kraftsport
ATTACH;FMTTYPE=image/jpeg:https://lpsv-st.at/wp-content/uploads/2023/11/4.jpg
END:VEVENT
END:VCALENDAR