BEGIN:VCALENDAR
VERSION:2.0
PRODID:-//Landespolizeisportverein Steiermark - ECPv6.5.1.6//NONSGML v1.0//EN
CALSCALE:GREGORIAN
METHOD:PUBLISH
X-WR-CALNAME:Landespolizeisportverein Steiermark
X-ORIGINAL-URL:https://lpsv-st.at
X-WR-CALDESC:Events for Landespolizeisportverein Steiermark
REFRESH-INTERVAL;VALUE=DURATION:PT1H
X-Robots-Tag:noindex
X-PUBLISHED-TTL:PT1H
BEGIN:VTIMEZONE
TZID:Europe/Vienna
BEGIN:DAYLIGHT
TZOFFSETFROM:+0100
TZOFFSETTO:+0200
TZNAME:CEST
DTSTART:20240331T010000
END:DAYLIGHT
BEGIN:STANDARD
TZOFFSETFROM:+0200
TZOFFSETTO:+0100
TZNAME:CET
DTSTART:20241027T010000
END:STANDARD
END:VTIMEZONE
BEGIN:VEVENT
DTSTART;VALUE=DATE:20241119
DTEND;VALUE=DATE:20241120
DTSTAMP:20260420T111638
CREATED:20240207T084823Z
LAST-MODIFIED:20240207T140134Z
UID:10000014-1731974400-1732060799@lpsv-st.at
SUMMARY:Bogensport - Weihnachtsfeier 2024
DESCRIPTION:Die Sektionsleiter Bogensport laden alle Sektionsmitglieder recht herzlich zur Weihnachtsfeier 2024 ein. \n  \nInformationen zur Örtlichkeit und Uhrzeit folgen noch.
URL:https://lpsv-st.at/event/bogensport-weihnachtsfeier-2024/
CATEGORIES:Sektion Bogensport
ATTACH;FMTTYPE=image/jpeg:https://lpsv-st.at/wp-content/uploads/2024/02/Bogenschiesen-Weihnachtsmann-Bildmaterial_-Bogenschiesen_-Der-Weihnachtsmann-Jpg-Files-Free-Download-e1707314467979.jpg
END:VEVENT
BEGIN:VEVENT
DTSTART;VALUE=DATE:20241019
DTEND;VALUE=DATE:20241020
DTSTAMP:20260420T111638
CREATED:20240207T084102Z
LAST-MODIFIED:20240207T115708Z
UID:10000013-1729296000-1729382399@lpsv-st.at
SUMMARY:Bogensport - Bananenschießen 2024
DESCRIPTION:Die Sektion Bogenschießen lädt alle sportbegeisterten Bogenschießerinnen und -schießer und alle die es noch werden wollen recht herzlich zu einem Bananenschießen ein. \n  \nFür nähere Informationen könnt ihr euch bei den Sektionsleitern melden. \n(Informationen zur Örtlichkeit und Uhrzeit folgen…)
URL:https://lpsv-st.at/event/bogensport-bananenschiesen-2024/
CATEGORIES:Sektion Bogensport
ATTACH;FMTTYPE=image/jpeg:https://lpsv-st.at/wp-content/uploads/2024/02/IMG_20231007_101850-scaled-e1707307012309.jpg
END:VEVENT
BEGIN:VEVENT
DTSTART;VALUE=DATE:20240810
DTEND;VALUE=DATE:20240811
DTSTAMP:20260420T111638
CREATED:20240207T083807Z
LAST-MODIFIED:20240207T140728Z
UID:10000012-1723248000-1723334399@lpsv-st.at
SUMMARY:Bogenschießen - 3. Treffen 2024
DESCRIPTION:Die Sektion Bogenschießen lädt alle sportbegeisterten Bogenschießerinnen und -schießer und alle die es noch werden wollen recht herzlich zu einem Treffen ein. \nEs ist keine Anmeldung erforderlich. \nFür nähere Informationen könnt ihr euch bei den Sektionsleitern melden. \n(Informationen zur Örtlichkeit und Uhrzeit folgen…)
URL:https://lpsv-st.at/event/bogenschiesen-3-treffen-2024/
CATEGORIES:Sektion Bogensport
ATTACH;FMTTYPE=image/jpeg:https://lpsv-st.at/wp-content/uploads/2024/02/IMG_20230617_093418-scaled-e1707314681774.jpg
END:VEVENT
BEGIN:VEVENT
DTSTART;VALUE=DATE:20240525
DTEND;VALUE=DATE:20240526
DTSTAMP:20260420T111638
CREATED:20240207T083637Z
LAST-MODIFIED:20240207T141539Z
UID:10000011-1716595200-1716681599@lpsv-st.at
SUMMARY:Bogenschießen - 2. Treffen 2024
DESCRIPTION:Die Sektion Bogenschießen lädt alle sportbegeisterten Bogenschießerinnen und -schießer und alle die es noch werden wollen recht herzlich zu einem Treffen ein. \nEs ist keine Anmeldung erforderlich. \nFür nähere Informationen könnt ihr euch bei den Sektionsleitern melden. \n(Informationen zur Örtlichkeit und Uhrzeit folgen…)
URL:https://lpsv-st.at/event/bogenschiesen-2-treffen-2024/
CATEGORIES:Sektion Bogensport
ATTACH;FMTTYPE=image/jpeg:https://lpsv-st.at/wp-content/uploads/2024/02/IMG_20230617_093418-scaled-e1707314681774.jpg
END:VEVENT
BEGIN:VEVENT
DTSTART;TZID=Europe/Vienna:20240505T073000
DTEND;TZID=Europe/Vienna:20240505T160000
DTSTAMP:20260420T111638
CREATED:20240207T082914Z
LAST-MODIFIED:20240207T141130Z
UID:10000010-1714894200-1714924800@lpsv-st.at
SUMMARY:7. Steirische Polizei Landesmeisterschaft im 3D Bogenschießen
DESCRIPTION:Die Sektion Bogenschießen lädt alle Mitglieder recht herzlich zu den 7. Steirischen Polizei Landesmeisterschaft im 3D Bogenschießen ein. \nDie Anmeldung für diese Veranstaltung ist unter folgender Homepage bis zum 01.05.2024 möglich: www.scorex2.at \n  \nInformationen zum Programmablauf können der folgenden Ausschreibung entnommen werden: Ausschreibung 2024 Polizei Landesmeisterschaft \n 
URL:https://lpsv-st.at/event/7-steirischen-polizei-landesmeisterschaft-im-3d-bogenschiesen/
LOCATION:BS Ligist – Archery Freaks\, Petermichlweg\, Ligist am Steinberg\, Steiermark\, 8563\, Austria
CATEGORIES:Sektion Bogensport
ATTACH;FMTTYPE=image/jpeg:https://lpsv-st.at/wp-content/uploads/2024/02/IMG-20230416-WA0049-e1707315081705.jpg
END:VEVENT
BEGIN:VEVENT
DTSTART;TZID=Europe/Vienna:20240316T090000
DTEND;TZID=Europe/Vienna:20240316T170000
DTSTAMP:20260420T111638
CREATED:20240207T080939Z
LAST-MODIFIED:20240207T140502Z
UID:10000009-1710579600-1710608400@lpsv-st.at
SUMMARY:Bogenschießen - 1. Treffen 2024
DESCRIPTION:Die Sektion Bogenschießen lädt alle sportbegeisterten Bogenschießerinnen und -schießer und alle die es noch werden wollen recht herzlich zu einem Treffen ein. \nEs ist keine Anmeldung erforderlich. \nFür nähere Informationen könnt ihr euch bei den Sektionsleitern melden.
URL:https://lpsv-st.at/event/bogenschiesen-1-treffen-2024/
LOCATION:RBS Grenzenlos – Afram 49\, 8410 Wildon\, Afram 49\, Wildon\, Steiermark\, 8410\, Austria
CATEGORIES:Sektion Bogensport
ATTACH;FMTTYPE=image/jpeg:https://lpsv-st.at/wp-content/uploads/2024/02/IMG_20230617_093418-scaled-e1707314681774.jpg
END:VEVENT
END:VCALENDAR