BEGIN:VCALENDAR
VERSION:2.0
PRODID:-//Landespolizeisportverein Steiermark - ECPv6.5.1.6//NONSGML v1.0//EN
CALSCALE:GREGORIAN
METHOD:PUBLISH
X-WR-CALNAME:Landespolizeisportverein Steiermark
X-ORIGINAL-URL:https://lpsv-st.at
X-WR-CALDESC:Events for Landespolizeisportverein Steiermark
REFRESH-INTERVAL;VALUE=DURATION:PT1H
X-Robots-Tag:noindex
X-PUBLISHED-TTL:PT1H
BEGIN:VTIMEZONE
TZID:Europe/Vienna
BEGIN:DAYLIGHT
TZOFFSETFROM:+0100
TZOFFSETTO:+0200
TZNAME:CEST
DTSTART:20240331T010000
END:DAYLIGHT
BEGIN:STANDARD
TZOFFSETFROM:+0200
TZOFFSETTO:+0100
TZNAME:CET
DTSTART:20241027T010000
END:STANDARD
END:VTIMEZONE
BEGIN:VEVENT
DTSTART;TZID=Europe/Vienna:20240505T073000
DTEND;TZID=Europe/Vienna:20240505T160000
DTSTAMP:20260425T144100
CREATED:20240207T082914Z
LAST-MODIFIED:20240207T141130Z
UID:10000010-1714894200-1714924800@lpsv-st.at
SUMMARY:7. Steirische Polizei Landesmeisterschaft im 3D Bogenschießen
DESCRIPTION:Die Sektion Bogenschießen lädt alle Mitglieder recht herzlich zu den 7. Steirischen Polizei Landesmeisterschaft im 3D Bogenschießen ein. \nDie Anmeldung für diese Veranstaltung ist unter folgender Homepage bis zum 01.05.2024 möglich: www.scorex2.at \n  \nInformationen zum Programmablauf können der folgenden Ausschreibung entnommen werden: Ausschreibung 2024 Polizei Landesmeisterschaft \n 
URL:https://lpsv-st.at/event/7-steirischen-polizei-landesmeisterschaft-im-3d-bogenschiesen/
LOCATION:BS Ligist – Archery Freaks\, Petermichlweg\, Ligist am Steinberg\, Steiermark\, 8563\, Austria
CATEGORIES:Sektion Bogensport
ATTACH;FMTTYPE=image/jpeg:https://lpsv-st.at/wp-content/uploads/2024/02/IMG-20230416-WA0049-e1707315081705.jpg
END:VEVENT
BEGIN:VEVENT
DTSTART;VALUE=DATE:20240525
DTEND;VALUE=DATE:20240526
DTSTAMP:20260425T144100
CREATED:20240207T083637Z
LAST-MODIFIED:20240207T141539Z
UID:10000011-1716595200-1716681599@lpsv-st.at
SUMMARY:Bogenschießen - 2. Treffen 2024
DESCRIPTION:Die Sektion Bogenschießen lädt alle sportbegeisterten Bogenschießerinnen und -schießer und alle die es noch werden wollen recht herzlich zu einem Treffen ein. \nEs ist keine Anmeldung erforderlich. \nFür nähere Informationen könnt ihr euch bei den Sektionsleitern melden. \n(Informationen zur Örtlichkeit und Uhrzeit folgen…)
URL:https://lpsv-st.at/event/bogenschiesen-2-treffen-2024/
CATEGORIES:Sektion Bogensport
ATTACH;FMTTYPE=image/jpeg:https://lpsv-st.at/wp-content/uploads/2024/02/IMG_20230617_093418-scaled-e1707314681774.jpg
END:VEVENT
END:VCALENDAR