BEGIN:VCALENDAR
VERSION:2.0
PRODID:-//Landespolizeisportverein Steiermark - ECPv6.5.1.6//NONSGML v1.0//EN
CALSCALE:GREGORIAN
METHOD:PUBLISH
X-ORIGINAL-URL:https://lpsv-st.at
X-WR-CALDESC:Events for Landespolizeisportverein Steiermark
REFRESH-INTERVAL;VALUE=DURATION:PT1H
X-Robots-Tag:noindex
X-PUBLISHED-TTL:PT1H
BEGIN:VTIMEZONE
TZID:Europe/Vienna
BEGIN:DAYLIGHT
TZOFFSETFROM:+0100
TZOFFSETTO:+0200
TZNAME:CEST
DTSTART:20260329T010000
END:DAYLIGHT
BEGIN:STANDARD
TZOFFSETFROM:+0200
TZOFFSETTO:+0100
TZNAME:CET
DTSTART:20261025T010000
END:STANDARD
END:VTIMEZONE
BEGIN:VEVENT
DTSTART;VALUE=DATE:20260611
DTEND;VALUE=DATE:20260612
DTSTAMP:20260425T134634
CREATED:20260325T054950Z
LAST-MODIFIED:20260325T054950Z
UID:10000061-1781136000-1781222399@lpsv-st.at
SUMMARY:17. Steirische Landesmeisterschaft - TRIATHLON
DESCRIPTION:Liebe Triathleten/innen\, liebe Sportsfreunde\,\n\nAm 11. Juni 2026 wird der traditionelle Polizei Triathlon in Mühlen stattfinden. Dazu möchten wir euch recht herzlich einladen.\n\n\nStreckenbeschreibung: \nSchwimmen: \nDreieckskurs im Badeteich Mühlen\, Neoprenanzug ist lt. Wettkampfregeln bis 22\,5 Grad Wassertemperatur erlaubt (eher geringere Wassertemperatur\, da im alpinen Gelände). \nRadfahren: \nWechselzone bis zur B92 von Straßenkilometer 5\,9 auf leicht abfallender Strecke bis zum Wendepunkt bei Straßenkilometer 15\,9 und retour. Windschattenfahren ist erlaubt. Bei Triathlonlenkern gibt es keine Einschränkungen. Die Verwendung elektrischer Hilfen bei den Fahrrädern ist verboten. \nLaufen: \n3 Runden zu je 1\,8 km\, Geländelauf auf dem Rundweg um den Badeteich Mühlen\, kupiertes Gelände mit Anstiegen. \nZeitplan: \n09:00 – 10:30 Uhr:               Startnummernausgabe und „Check in“ \n10:30 Uhr:                             Wettkampfbesprechung \n10:45 Uhr:                             Start des Wettkampfes \n14:00 Uhr:                             Siegerehrung in Mühlen\, GH Hirschenwirt \n\n\n\n\n\nWeitere Informationen findest du hier: Ausschreibung LM Triathlon 2026 NEU\n\nAnmeldung unter: www.lpsvtriathlon.kh-solution.at
URL:https://lpsv-st.at/event/17-steirische-landesmeisterschaft-triathlon/
CATEGORIES:Sektion Leichtathletik
ATTACH;FMTTYPE=image/jpeg:https://lpsv-st.at/wp-content/uploads/2023/11/LPSV_USPE_3.jpg
END:VEVENT
BEGIN:VEVENT
DTSTART;TZID=Europe/Vienna:20260611T130000
DTEND;TZID=Europe/Vienna:20260611T150000
DTSTAMP:20260425T134634
CREATED:20260203T061529Z
LAST-MODIFIED:20260203T061529Z
UID:10000057-1781182800-1781190000@lpsv-st.at
SUMMARY:Übungsschießen
DESCRIPTION:Die Sektion Schießen hat die Schießanlage des Schützenvereines in 8091 Jagerberg 97c\, Bezirk Südoststeiermark\, angemietet\, um allen Polizeibeamten sowie den Gendarmerie- und Polizeipensionisten die Möglichkeit zu bieten\, mit der eigenen Faustfeuerwaffe zu schießen bzw. zu üben. \nFür die pensionierten Kollegen\, welche Mitglieder des LPSV sind\, besteht wieder die Möglichkeit\, im Hinblick auf einen Nachweis für die Behörde\, den Umgang mit ihren FFW\, gegen Bestätigung der Teilnahme\, zu üben. \nAngemerkt wird\, dass die BHs ca. 5 Bestätigungen in den letzten 5 Jahren bzw. 3 Bestätigungen im letzten Jahr vor der wiederkehrenden Überprüfung verlangen. \nJeder Schütze ist für jeden seiner abgegebenen Schüsse selbst verantwortlich! \nInsbesondere für Polizeischüler könnte bei genügend und rechtzeitigen Voranmeldungen ein Schießtrainer gestellt werden. \nUnkostenbeitrag: € 10.- \n  \nNähere Informationen: Jagerberg 2026
URL:https://lpsv-st.at/event/ubungsschiesen-10/
LOCATION:Übungsschießen in Jagerberg
CATEGORIES:Sektion Schießen
ATTACH;FMTTYPE=image/jpeg:https://lpsv-st.at/wp-content/uploads/2023/06/Landesmeisterschaft-USPE-01.jpg
ORGANIZER;CN="Landespolizeisportverein Steiermark - Sektion Schie%C3%9Fen":MAILTO:kontakt@lpsv-st.at
END:VEVENT
END:VCALENDAR