BEGIN:VCALENDAR
VERSION:2.0
PRODID:-//Landespolizeisportverein Steiermark - ECPv6.5.1.6//NONSGML v1.0//EN
CALSCALE:GREGORIAN
METHOD:PUBLISH
X-ORIGINAL-URL:https://lpsv-st.at
X-WR-CALDESC:Events for Landespolizeisportverein Steiermark
REFRESH-INTERVAL;VALUE=DURATION:PT1H
X-Robots-Tag:noindex
X-PUBLISHED-TTL:PT1H
BEGIN:VTIMEZONE
TZID:Europe/Vienna
BEGIN:DAYLIGHT
TZOFFSETFROM:+0100
TZOFFSETTO:+0200
TZNAME:CEST
DTSTART:20250330T010000
END:DAYLIGHT
BEGIN:STANDARD
TZOFFSETFROM:+0200
TZOFFSETTO:+0100
TZNAME:CET
DTSTART:20251026T010000
END:STANDARD
END:VTIMEZONE
BEGIN:VEVENT
DTSTART;VALUE=DATE:20251002
DTEND;VALUE=DATE:20251003
DTSTAMP:20260424T120822
CREATED:20250509T072254Z
LAST-MODIFIED:20250509T072254Z
UID:10000043-1759363200-1759449599@lpsv-st.at
SUMMARY:5. Motorradausfahrt 2025
DESCRIPTION:02.10.\nDieselkino Lieboch\nOst- u Südstmk / Weinstr.\nAnmeldeschluss: 15.09.\nSaisonabschluss\n\n\n\nAnmeldung für den jeweiligen Termin mit Bekanntgabe von Name und Handynummer bei: \n\nMarc Posch                        marc.posch@polizei.gv.at                           06648466581\n\nODER \n\nLucas Pichler                     lucas.pichler@polizei.gv.at                         06648466501\n\nFür jeden Termin wird eine WhatsApp-Gruppe erstellt\, um wichtige Informationen\, Änderungen oder Absagen bekanntzugeben. \nIhr könnt diese Gruppe nach der Ausfahrt wieder verlassen. \n  \nWeitere Informationen und die anderen Termine 2025: Motorradausfahrten 2025
URL:https://lpsv-st.at/event/5-motorradausfahrt-2025/
CATEGORIES:Sektion Motorsport
ATTACH;FMTTYPE=image/png:https://lpsv-st.at/wp-content/uploads/2025/05/Motorsport.png
END:VEVENT
END:VCALENDAR