BEGIN:VCALENDAR
VERSION:2.0
PRODID:-//Landespolizeisportverein Steiermark - ECPv6.5.1.6//NONSGML v1.0//EN
CALSCALE:GREGORIAN
METHOD:PUBLISH
X-ORIGINAL-URL:https://lpsv-st.at
X-WR-CALDESC:Events for Landespolizeisportverein Steiermark
REFRESH-INTERVAL;VALUE=DURATION:PT1H
X-Robots-Tag:noindex
X-PUBLISHED-TTL:PT1H
BEGIN:VTIMEZONE
TZID:Europe/Vienna
BEGIN:DAYLIGHT
TZOFFSETFROM:+0100
TZOFFSETTO:+0200
TZNAME:CEST
DTSTART:20250330T010000
END:DAYLIGHT
BEGIN:STANDARD
TZOFFSETFROM:+0200
TZOFFSETTO:+0100
TZNAME:CET
DTSTART:20251026T010000
END:STANDARD
END:VTIMEZONE
BEGIN:VEVENT
DTSTART;VALUE=DATE:20250630
DTEND;VALUE=DATE:20250703
DTSTAMP:20260425T190154
CREATED:20250214T074950Z
LAST-MODIFIED:20250214T074950Z
UID:10000030-1751241600-1751500799@lpsv-st.at
SUMMARY:BPM 2025
DESCRIPTION:Liebe Mitglieder\, \n  \ndie Bundespolizeimeisterschaften 2025 finden heuer von 30. Juni 2025 bis 02. Juli 2025 in Salzburg statt. \nWir bitten um Anmeldung bei den jeweiligen Sektionsleiterinnen und -leitern\, welche die Nennungen gesammelt an den LPSV Vorstand (Schriftführerin EPPICH Sabrina) übermitteln werden. \n  \nNähere Informationen sowie die gesamte Ausschreibung wurde per Mail übermittelt.
URL:https://lpsv-st.at/event/bpm-2025/
ATTACH;FMTTYPE=image/jpeg:https://lpsv-st.at/wp-content/uploads/2023/11/Foto-Eroeffnungsfeier_Abordnung-Stmk.jpg
END:VEVENT
END:VCALENDAR