BEGIN:VCALENDAR
VERSION:2.0
PRODID:-//Landespolizeisportverein Steiermark - ECPv6.5.1.6//NONSGML v1.0//EN
CALSCALE:GREGORIAN
METHOD:PUBLISH
X-WR-CALNAME:Landespolizeisportverein Steiermark
X-ORIGINAL-URL:https://lpsv-st.at
X-WR-CALDESC:Events for Landespolizeisportverein Steiermark
REFRESH-INTERVAL;VALUE=DURATION:PT1H
X-Robots-Tag:noindex
X-PUBLISHED-TTL:PT1H
BEGIN:VTIMEZONE
TZID:Europe/Vienna
BEGIN:DAYLIGHT
TZOFFSETFROM:+0100
TZOFFSETTO:+0200
TZNAME:CEST
DTSTART:20250330T010000
END:DAYLIGHT
BEGIN:STANDARD
TZOFFSETFROM:+0200
TZOFFSETTO:+0100
TZNAME:CET
DTSTART:20251026T010000
END:STANDARD
END:VTIMEZONE
BEGIN:VEVENT
DTSTART;VALUE=DATE:20250610
DTEND;VALUE=DATE:20250611
DTSTAMP:20260425T190221
CREATED:20250509T070338Z
LAST-MODIFIED:20250509T070338Z
UID:10000037-1749513600-1749599999@lpsv-st.at
SUMMARY:2. Fischen 2025
DESCRIPTION:Die Sektionsleiter Angelsport laden recht herzlich zum 2. Fischen der Saison 2025 ein. \nDatum: 10. Juni 2025 \nOrt: Teichanlage in Egelsdorf (8261 Egelsdorf\, beim Haus Egelsdorf 2 in den Hartweg einbiegen) \nWeitere Informationen: Ausschreibung_2_Fischen_Egelsdorf_2025
URL:https://lpsv-st.at/event/2-fischen-2025/
CATEGORIES:Sektion Angelsport
ATTACH;FMTTYPE=image/jpeg:https://lpsv-st.at/wp-content/uploads/2023/11/2.jpg
END:VEVENT
END:VCALENDAR